BEGIN:VCALENDAR
VERSION:2.0
PRODID:-//Plone.org//NONSGML plone.app.event//EN
X-WR-TIMEZONE:Europe/Madrid
BEGIN:VEVENT
SUMMARY:Sorteig de la Litografia de l'obra Salvador Espriu-Bronze
DTSTART;TZID=Europe/Madrid;VALUE=DATE-TIME:20140708T194500
DTEND;TZID=Europe/Madrid;VALUE=DATE-TIME:20140708T204500
DTSTAMP;VALUE=DATE-TIME:20260421T182703Z
UID:5ea3f2de65a3cf1421e9199d535f2b93
CREATED;VALUE=DATE-TIME:20140708T000000Z
LOCATION:Plaça Ajuntament - Riera Bisbe Pol, 8
ORGANIZER:Associació Amics de la Puntaire
URL:https://arenysdemar.cat/document.php?id=27952
END:VEVENT
END:VCALENDAR