BEGIN:VCALENDAR
VERSION:2.0
PRODID:-//Plone.org//NONSGML plone.app.event//EN
X-WR-TIMEZONE:Europe/Madrid
BEGIN:VEVENT
SUMMARY:Mostra de Música d'Arenys de Mar
DTSTART;TZID=Europe/Madrid;VALUE=DATE-TIME:20140607T170000
DTEND;TZID=Europe/Madrid;VALUE=DATE-TIME:20140607T180000
DTSTAMP;VALUE=DATE-TIME:20260421T215341Z
UID:3ff2324655a411393b8602b1d984aed3
CREATED;VALUE=DATE-TIME:20140607T000000Z
CATEGORIES:Mostra,Música
LOCATION:Plaça de les Palmeres
ORGANIZER:Mostra de Música d'Arenys de Mar i Ajuntament d'Arenys de Mar
COMMENT:Preu: Gratuït
Durada: fins a les 3 de la matinada
URL:https://arenysdemar.cat/document.php?id=28026
END:VEVENT
END:VCALENDAR