BEGIN:VCALENDAR
VERSION:2.0
PRODID:-//Plone.org//NONSGML plone.app.event//EN
X-WR-TIMEZONE:Europe/Madrid
BEGIN:VEVENT
SUMMARY:Conferència sobre el pintor Isidre Nonell
DTSTART;TZID=Europe/Madrid;VALUE=DATE-TIME:20140613T193000
DTEND;TZID=Europe/Madrid;VALUE=DATE-TIME:20140613T203000
DTSTAMP;VALUE=DATE-TIME:20260421T100802Z
UID:8200463b2db1b0b9e9df9fe8a3188659
CREATED;VALUE=DATE-TIME:20140613T000000Z
CATEGORIES:Conferència
LOCATION:Sala d'Actes de la Biblioteca - C. Bonaire, 2
ORGANIZER:Fira de Dibuix i Pintura i Biblioteca - Regidoria de Cultura
DESCRIPTION:a càrrec de Joan Miquel Llodrà
URL:https://arenysdemar.cat/document.php?id=28043
END:VEVENT
END:VCALENDAR