BEGIN:VCALENDAR
VERSION:2.0
PRODID:-//Plone.org//NONSGML plone.app.event//EN
X-WR-TIMEZONE:Europe/Madrid
BEGIN:VEVENT
SUMMARY:VII Torneig Vila d'Arenys de futbol 7
DTSTART;TZID=Europe/Madrid;VALUE=DATE-TIME:20140616T190000
DTEND;TZID=Europe/Madrid;VALUE=DATE-TIME:20140616T200000
DTSTAMP;VALUE=DATE-TIME:20260424T004803Z
UID:c1000d4be1bc42cfd25f0a7a2e329962
CREATED;VALUE=DATE-TIME:20140616T000000Z
CATEGORIES:Esports
LOCATION:Camp de Futbol - Rial de sa Clavella, s/n
ORGANIZER:Club de Futbol d'Arenys de Mar
COMMENT:Durada: fins al 20 de juliol
URL:https://arenysdemar.cat/document.php?id=28052
END:VEVENT
END:VCALENDAR