BEGIN:VCALENDAR
VERSION:2.0
PRODID:-//Plone.org//NONSGML plone.app.event//EN
X-WR-TIMEZONE:Europe/Madrid
BEGIN:VEVENT
SUMMARY:Els Croods
DTSTART;TZID=Europe/Madrid;VALUE=DATE-TIME:20140715T220000
DTEND;TZID=Europe/Madrid;VALUE=DATE-TIME:20140715T230000
DTSTAMP;VALUE=DATE-TIME:20260426T045058Z
UID:3b8b2fa308e01db09c3e61c4a9bb9cf1
CREATED;VALUE=DATE-TIME:20140715T000000Z
CATEGORIES:Cinema
LOCATION:Platja de la Picòrdia
ORGANIZER:Plataforma per la Llengua
DESCRIPTION:Torna el cine-pícnic a la platja d'Arenys
URL:https://arenysdemar.cat/document.php?id=28084
END:VEVENT
END:VCALENDAR