BEGIN:VCALENDAR
VERSION:2.0
PRODID:-//Plone.org//NONSGML plone.app.event//EN
X-WR-TIMEZONE:Europe/Madrid
BEGIN:VEVENT
SUMMARY:Un amic per a Frank
DTSTART;TZID=Europe/Madrid;VALUE=DATE-TIME:20140722T220000
DTEND;TZID=Europe/Madrid;VALUE=DATE-TIME:20140722T230000
DTSTAMP;VALUE=DATE-TIME:20260420T150744Z
UID:08685986f93a68726a42ea06c47b3c08
CREATED;VALUE=DATE-TIME:20140722T000000Z
CATEGORIES:Cinema
LOCATION:Platja de la Picòrdia
ORGANIZER:Plataforma per la Llengua
DESCRIPTION:Cine-pícnic a la platja d'Arenys
URL:https://arenysdemar.cat/document.php?id=28085
END:VEVENT
END:VCALENDAR