BEGIN:VCALENDAR
VERSION:2.0
PRODID:-//Plone.org//NONSGML plone.app.event//EN
X-WR-TIMEZONE:Europe/Madrid
BEGIN:VEVENT
SUMMARY:Lliurament de xumets als gegants
DTSTART;TZID=Europe/Madrid;VALUE=DATE-TIME:20140709T170000
DTEND;TZID=Europe/Madrid;VALUE=DATE-TIME:20140709T180000
DTSTAMP;VALUE=DATE-TIME:20260421T211233Z
UID:2828bbb92ce8501e41f1a6f387c19b58
CREATED;VALUE=DATE-TIME:20140709T000000Z
CATEGORIES:Festa
LOCATION:Plaça de l'Església - Plaça de l'Església
ORGANIZER:Associació de Geganters
DESCRIPTION:Dóna-li el xumet al teu gegant favorit!
URL:https://arenysdemar.cat/document.php?id=28110
END:VEVENT
END:VCALENDAR