BEGIN:VCALENDAR
VERSION:2.0
PRODID:-//Plone.org//NONSGML plone.app.event//EN
X-WR-TIMEZONE:Europe/Madrid
BEGIN:VEVENT
SUMMARY:Trobada de gegants
DTSTART;TZID=Europe/Madrid;VALUE=DATE-TIME:20140712T180000
DTEND;TZID=Europe/Madrid;VALUE=DATE-TIME:20140712T190000
DTSTAMP;VALUE=DATE-TIME:20260423T182411Z
UID:9e63cddf90810ce2c53971a05b83db7a
CREATED;VALUE=DATE-TIME:20140712T000000Z
CATEGORIES:Festa
LOCATION:Riera, davant del C.C. Calisay
ORGANIZER:Associació de Geganters i Ajuntament d'Arenys de Mar
URL:https://arenysdemar.cat/document.php?id=28111
END:VEVENT
END:VCALENDAR