BEGIN:VCALENDAR
VERSION:2.0
PRODID:-//Plone.org//NONSGML plone.app.event//EN
X-WR-TIMEZONE:Europe/Madrid
BEGIN:VEVENT
SUMMARY:Presentació dels llibres de Ventura Pons i projecció de la pel·lícula: Ignasi M.
DTSTART;TZID=Europe/Madrid;VALUE=DATE-TIME:20140704T190000
DTEND;TZID=Europe/Madrid;VALUE=DATE-TIME:20140704T200000
DTSTAMP;VALUE=DATE-TIME:20260424T010110Z
UID:019fb112625b10d701f494e829400ee5
CREATED;VALUE=DATE-TIME:20140704T000000Z
CATEGORIES:Cinema
LOCATION:Teatre Principal - C. Església, 45-47
ORGANIZER:Regidoria de Cultura
DESCRIPTION:amb la presència del director
URL:https://arenysdemar.cat/document.php?id=28120
END:VEVENT
END:VCALENDAR