BEGIN:VCALENDAR
VERSION:2.0
PRODID:-//Plone.org//NONSGML plone.app.event//EN
X-WR-TIMEZONE:Europe/Madrid
BEGIN:VEVENT
SUMMARY:5è Correbars d'Arenys de Mar
DTSTART;TZID=Europe/Madrid;VALUE=DATE-TIME:20140712T180000
DTEND;TZID=Europe/Madrid;VALUE=DATE-TIME:20140712T190000
DTSTAMP;VALUE=DATE-TIME:20260426T045148Z
UID:8e2c440d31691114efa66818e962c869
CREATED;VALUE=DATE-TIME:20140712T000000Z
CATEGORIES:Festa
LOCATION:Pati del C.C.Calisay - Riera del Pare Fita, 31
ORGANIZER:Col·lectiu TRES-A (Acció Antifeixista Arenyenca) i Arenys Esport
COMMENT:Preu: 13&euro;
URL:https://arenysdemar.cat/document.php?id=28121
END:VEVENT
END:VCALENDAR