BEGIN:VCALENDAR
VERSION:2.0
PRODID:-//Plone.org//NONSGML plone.app.event//EN
X-WR-TIMEZONE:Europe/Madrid
BEGIN:VEVENT
SUMMARY:Enramada de la plaça
DTSTART;TZID=Europe/Madrid;VALUE=DATE-TIME:20140707T180000
DTEND;TZID=Europe/Madrid;VALUE=DATE-TIME:20140707T190000
DTSTAMP;VALUE=DATE-TIME:20260423T134310Z
UID:a2da5c2408a75795597c512f1205b34e
CREATED;VALUE=DATE-TIME:20140707T000000Z
CATEGORIES:Festa
LOCATION:Plaça de l'Església - Plaça de l'Església
ORGANIZER:Cau Sant Francesc, Cau Flos i Calcat, Tres- A, Patronat de Sant Roc, Associació Pubillatge i Regidoria de Joventut
DESCRIPTION:Guarnim la plaça en honor a Sant Zenon
URL:https://arenysdemar.cat/document.php?id=28130
END:VEVENT
END:VCALENDAR