BEGIN:VCALENDAR
VERSION:2.0
PRODID:-//Plone.org//NONSGML plone.app.event//EN
X-WR-TIMEZONE:Europe/Madrid
BEGIN:VEVENT
SUMMARY:Fira de Brocanters
DTSTART;TZID=Europe/Madrid;VALUE=DATE-TIME:20140713T100000
DTEND;TZID=Europe/Madrid;VALUE=DATE-TIME:20140713T110000
DTSTAMP;VALUE=DATE-TIME:20260424T094130Z
UID:b20b5656ab9081bad3e73258be1ab448
CREATED;VALUE=DATE-TIME:20140713T000000Z
CATEGORIES:Mostra
LOCATION:Riera, del  Xifré amunt
ORGANIZER:Associació Col·leccionisme Nou i Vell (Crisàlide)
URL:https://arenysdemar.cat/document.php?id=28136
END:VEVENT
END:VCALENDAR