BEGIN:VCALENDAR
VERSION:2.0
PRODID:-//Plone.org//NONSGML plone.app.event//EN
X-WR-TIMEZONE:Europe/Madrid
BEGIN:VEVENT
SUMMARY:Demostració de cuina d'estiu
DTSTART;TZID=Europe/Madrid;VALUE=DATE-TIME:20140729T190000
DTEND;TZID=Europe/Madrid;VALUE=DATE-TIME:20140729T200000
DTSTAMP;VALUE=DATE-TIME:20260421T161252Z
UID:bff19e5018febbc846b00ab7b97fe9cd
CREATED;VALUE=DATE-TIME:20140729T000000Z
CATEGORIES:Mostra
LOCATION:Biblioplatja - Platja de la Picòrdia
ORGANIZER:Biblioteca - Regidoria de Cultura
DESCRIPTION:a càrrec de Rosario Montoza
URL:https://arenysdemar.cat/document.php?id=28139
END:VEVENT
END:VCALENDAR