BEGIN:VCALENDAR
VERSION:2.0
PRODID:-//Plone.org//NONSGML plone.app.event//EN
X-WR-TIMEZONE:Europe/Madrid
BEGIN:VEVENT
SUMMARY:Obertura de la Biblioplatja
DTSTART;TZID=Europe/Madrid;VALUE=DATE-TIME:20140716T100000
DTEND;TZID=Europe/Madrid;VALUE=DATE-TIME:20140716T110000
DTSTAMP;VALUE=DATE-TIME:20260426T013627Z
UID:19f1d8cee2ccc4eed92675613d7781ab
CREATED;VALUE=DATE-TIME:20140716T000000Z
LOCATION:Biblioplatja - Platja de la Picòrdia
ORGANIZER:Biblioteca - Regidoria de Cultura
COMMENT:Durada: Fins divendres 29 d'agost
URL:https://arenysdemar.cat/document.php?id=28143
END:VEVENT
END:VCALENDAR