BEGIN:VCALENDAR
VERSION:2.0
PRODID:-//Plone.org//NONSGML plone.app.event//EN
X-WR-TIMEZONE:Europe/Madrid
BEGIN:VEVENT
SUMMARY:IV Baixada de Carretons
DTSTART;TZID=Europe/Madrid;VALUE=DATE-TIME:20140711T180000
DTEND;TZID=Europe/Madrid;VALUE=DATE-TIME:20140711T190000
DTSTAMP;VALUE=DATE-TIME:20260420T164447Z
UID:4442e68f8e315e750c17c182877e4745
CREATED;VALUE=DATE-TIME:20140711T000000Z
CATEGORIES:Festa
LOCATION:Baixada Parc de Lurdes
ORGANIZER:Associació de Pubilles i Hereus d'Arenys de Mar
URL:https://arenysdemar.cat/document.php?id=28145
END:VEVENT
END:VCALENDAR