BEGIN:VCALENDAR
VERSION:2.0
PRODID:-//Plone.org//NONSGML plone.app.event//EN
X-WR-TIMEZONE:Europe/Madrid
BEGIN:VEVENT
SUMMARY:Concert de Festa Major
DTSTART;TZID=Europe/Madrid;VALUE=DATE-TIME:20140709T204500
DTEND;TZID=Europe/Madrid;VALUE=DATE-TIME:20140709T214500
DTSTAMP;VALUE=DATE-TIME:20260423T232154Z
UID:8c572e3ea341e5b7ad4f47c75975aa5b
CREATED;VALUE=DATE-TIME:20140709T000000Z
CATEGORIES:Música
LOCATION:Riera davant de l'edifici Xifré
ORGANIZER:Ajuntament d'Arenys de Mar
DESCRIPTION:a càrrec de la Cobla-Orquestra Montgrins
URL:https://arenysdemar.cat/document.php?id=28159
END:VEVENT
END:VCALENDAR