BEGIN:VCALENDAR
VERSION:2.0
PRODID:-//Plone.org//NONSGML plone.app.event//EN
X-WR-TIMEZONE:Europe/Madrid
BEGIN:VEVENT
SUMMARY:Focs artificials
DTSTART;TZID=Europe/Madrid;VALUE=DATE-TIME:20140709T230000
DTEND;TZID=Europe/Madrid;VALUE=DATE-TIME:20140710T000000
DTSTAMP;VALUE=DATE-TIME:20260421T195131Z
UID:0b3437a176983911c0eb4e247bb238d3
CREATED;VALUE=DATE-TIME:20140709T000000Z
LOCATION:Platja Picòrdia
ORGANIZER:Ajuntament d'Arenys de Mar
DESCRIPTION:a càrrec de la Pirotècnia Zaragozana
URL:https://arenysdemar.cat/document.php?id=28160
END:VEVENT
END:VCALENDAR