BEGIN:VCALENDAR
VERSION:2.0
PRODID:-//Plone.org//NONSGML plone.app.event//EN
X-WR-TIMEZONE:Europe/Madrid
BEGIN:VEVENT
SUMMARY:Taller de festa pel ball infantil
DTSTART;TZID=Europe/Madrid;VALUE=DATE-TIME:20140711T180000
DTEND;TZID=Europe/Madrid;VALUE=DATE-TIME:20140711T190000
DTSTAMP;VALUE=DATE-TIME:20260426T031144Z
UID:c084d28e795ca5917fb239e231d5b5de
CREATED;VALUE=DATE-TIME:20140711T000000Z
CATEGORIES:Infantils
LOCATION:Parc Asil Torrents
ORGANIZER:Ajuntament d'Arenys de Mar
DESCRIPTION:a càrrec del Floc
URL:https://arenysdemar.cat/document.php?id=28166
END:VEVENT
END:VCALENDAR