BEGIN:VCALENDAR
VERSION:2.0
PRODID:-//Plone.org//NONSGML plone.app.event//EN
X-WR-TIMEZONE:Europe/Madrid
BEGIN:VEVENT
SUMMARY:Fira d'artesania
DTSTART;TZID=Europe/Madrid;VALUE=DATE-TIME:20141005T100000
DTEND;TZID=Europe/Madrid;VALUE=DATE-TIME:20141005T110000
DTSTAMP;VALUE=DATE-TIME:20260424T170709Z
UID:095e66ffd3854b99198e7d95ebb6580b
CREATED;VALUE=DATE-TIME:20141005T000000Z
CATEGORIES:Mostra
LOCATION:Riera davant de l'Ajuntament
ORGANIZER:Associació Col·leccionisme Nou i Vell (Crisàlide)
COMMENT:Durada: Fins les 14.30h
URL:https://arenysdemar.cat/document.php?id=28182
END:VEVENT
END:VCALENDAR