BEGIN:VCALENDAR
VERSION:2.0
PRODID:-//Plone.org//NONSGML plone.app.event//EN
X-WR-TIMEZONE:Europe/Madrid
BEGIN:VEVENT
SUMMARY:Fira del Col·leccionisme
DTSTART;TZID=Europe/Madrid;VALUE=DATE-TIME:20140928T090000
DTEND;TZID=Europe/Madrid;VALUE=DATE-TIME:20140928T100000
DTSTAMP;VALUE=DATE-TIME:20260425T133203Z
UID:6731a02fe31a4a6da0ca8144a08b4bf5
CREATED;VALUE=DATE-TIME:20140928T000000Z
CATEGORIES:Mostra
LOCATION:Riera, davant del C.C. Calisay
ORGANIZER:Associació Llebeig
URL:https://arenysdemar.cat/document.php?id=28183
END:VEVENT
END:VCALENDAR