BEGIN:VCALENDAR
VERSION:2.0
PRODID:-//Plone.org//NONSGML plone.app.event//EN
X-WR-TIMEZONE:Europe/Madrid
BEGIN:VEVENT
SUMMARY:Fira de Brocanters
DTSTART;TZID=Europe/Madrid;VALUE=DATE-TIME:20140914T100000
DTEND;TZID=Europe/Madrid;VALUE=DATE-TIME:20140914T110000
DTSTAMP;VALUE=DATE-TIME:20260424T060841Z
UID:a57cf1680153ef5729b165043ca15aae
CREATED;VALUE=DATE-TIME:20140914T000000Z
CATEGORIES:Mostra
LOCATION:Riera, davant del C.C. Calisay
ORGANIZER:Associació Col·leccionisme Nou i Vell (Crisàlide)
URL:https://arenysdemar.cat/document.php?id=28184
END:VEVENT
END:VCALENDAR