BEGIN:VCALENDAR
VERSION:2.0
PRODID:-//Plone.org//NONSGML plone.app.event//EN
X-WR-TIMEZONE:Europe/Madrid
BEGIN:VEVENT
SUMMARY:Festa de cloenda Un Estiu Genial
DTSTART;TZID=Europe/Madrid;VALUE=DATE-TIME:20140914T180000
DTEND;TZID=Europe/Madrid;VALUE=DATE-TIME:20140914T190000
DTSTAMP;VALUE=DATE-TIME:20260423T132329Z
UID:fe6ebdc2fd1bde02405c43639121f7d7
CREATED;VALUE=DATE-TIME:20140914T000000Z
CATEGORIES:Infantils
LOCATION:Sala Polivalent del C.C.Calisay - Riera Pare Fita, 31
ORGANIZER:Floc i Regidoria d'Infància i Joventut
URL:https://arenysdemar.cat/document.php?id=28186
END:VEVENT
END:VCALENDAR