BEGIN:VCALENDAR
VERSION:2.0
PRODID:-//Plone.org//NONSGML plone.app.event//EN
X-WR-TIMEZONE:Europe/Madrid
BEGIN:VEVENT
SUMMARY:Fira d'artesania
DTSTART;TZID=Europe/Madrid;VALUE=DATE-TIME:20141102T100000
DTEND;TZID=Europe/Madrid;VALUE=DATE-TIME:20141102T110000
DTSTAMP;VALUE=DATE-TIME:20260420T224350Z
UID:b6b8383a82a5be5f8e3f733a735f54ea
CREATED;VALUE=DATE-TIME:20141102T000000Z
CATEGORIES:Mostra
LOCATION:a la Riera davant l'Ajuntament
ORGANIZER:Associació Col·leccionisme Nou i Vell (Crisàlide)
URL:https://arenysdemar.cat/document.php?id=28189
END:VEVENT
END:VCALENDAR