BEGIN:VCALENDAR
VERSION:2.0
PRODID:-//Plone.org//NONSGML plone.app.event//EN
X-WR-TIMEZONE:Europe/Madrid
BEGIN:VEVENT
SUMMARY:Taller de música en família amb nens i nenes de 2 a 5 anys
DTSTART;TZID=Europe/Madrid;VALUE=DATE-TIME:20140730T183000
DTEND;TZID=Europe/Madrid;VALUE=DATE-TIME:20140730T193000
DTSTAMP;VALUE=DATE-TIME:20260425T201014Z
UID:181b51236c02b3f9c24572e17d948bbc
CREATED;VALUE=DATE-TIME:20140730T000000Z
CATEGORIES:Infantils,Música
LOCATION:Biblioplatja - Platja de la Picòrdia
ORGANIZER:Biblioteca - Regidoria de Cultura
DESCRIPTION:a càrrec de Laia Torres
URL:https://arenysdemar.cat/document.php?id=28224
END:VEVENT
END:VCALENDAR