BEGIN:VCALENDAR
VERSION:2.0
PRODID:-//Plone.org//NONSGML plone.app.event//EN
X-WR-TIMEZONE:Europe/Madrid
BEGIN:VEVENT
SUMMARY:Partides al Quinto
DTSTART;TZID=Europe/Madrid;VALUE=DATE-TIME:20140704T180000
DTEND;TZID=Europe/Madrid;VALUE=DATE-TIME:20140704T190000
DTSTAMP;VALUE=DATE-TIME:20260426T045408Z
UID:75844527d12e1e17591a409f863995e3
CREATED;VALUE=DATE-TIME:20140704T000000Z
LOCATION:Esplai/C.C.Calisay - Riera del Pare Fita, 31
ORGANIZER:Esplai de la Gent Gran
URL:https://arenysdemar.cat/document.php?id=28260
END:VEVENT
END:VCALENDAR