BEGIN:VCALENDAR
VERSION:2.0
PRODID:-//Plone.org//NONSGML plone.app.event//EN
X-WR-TIMEZONE:Europe/Madrid
BEGIN:VEVENT
SUMMARY:Joan Chamorro Quartet & Eva Fernández & Andrea Motis
DTSTART;TZID=Europe/Madrid;VALUE=DATE-TIME:20140801T223000
DTEND;TZID=Europe/Madrid;VALUE=DATE-TIME:20140801T233000
DTSTAMP;VALUE=DATE-TIME:20260420T150759Z
UID:7d9921c0f6ab223736009275cd0d66eb
CREATED;VALUE=DATE-TIME:20140801T000000Z
CATEGORIES:Música
LOCATION:Pati del Xifré - Auterive, s/n
ORGANIZER:Ajuntament d'Arenys de Mar, Penya Apa Anem-hi i OCR
DESCRIPTION:23è Festival de Jazz d'Arenys de Mar
URL:https://arenysdemar.cat/document.php?id=28268
END:VEVENT
END:VCALENDAR