BEGIN:VCALENDAR
VERSION:2.0
PRODID:-//Plone.org//NONSGML plone.app.event//EN
X-WR-TIMEZONE:Europe/Madrid
BEGIN:VEVENT
SUMMARY:Marina BBFace & The Beatroots
DTSTART;TZID=Europe/Madrid;VALUE=DATE-TIME:20140815T223000
DTEND;TZID=Europe/Madrid;VALUE=DATE-TIME:20140815T233000
DTSTAMP;VALUE=DATE-TIME:20260422T021333Z
UID:92f291d94e6940fd5ee0ff914e0bddde
CREATED;VALUE=DATE-TIME:20140815T000000Z
CATEGORIES:Música
LOCATION:Pati del Xifré - Auterive, s/n
ORGANIZER:Ajuntament d'Arenys de Mar, Penya Apa Anem-hi i OCR
DESCRIPTION:23è Festival de Jazz d'Arenys de Mar
URL:https://arenysdemar.cat/document.php?id=28271
END:VEVENT
END:VCALENDAR