BEGIN:VCALENDAR
VERSION:2.0
PRODID:-//Plone.org//NONSGML plone.app.event//EN
X-WR-TIMEZONE:Europe/Madrid
BEGIN:VEVENT
SUMMARY:Visita a la Granja El Paraiso
DTSTART;TZID=Europe/Madrid;VALUE=DATE-TIME:20140927T110000
DTEND;TZID=Europe/Madrid;VALUE=DATE-TIME:20140927T120000
DTSTAMP;VALUE=DATE-TIME:20260424T112548Z
UID:44e627e51d7b3b009dc0c90aa2220735
CREATED;VALUE=DATE-TIME:20140927T000000Z
CATEGORIES:Mostra
LOCATION:Plana del Paraiso
ORGANIZER:Ajuntament d'Arenys de Mar. Regidoria de Cultura
COMMENT:Preu: Gratuït. Aforament limitat. Cal inscripció prèvia a museus@arenysdemar.cat o bé personalment al Museu de la Punta C. Església 43
Durada: També a les 18h i 28 de setembre a les 11h
DESCRIPTION:Jornades Europees del Patrimoni
URL:https://arenysdemar.cat/document.php?id=28289
END:VEVENT
END:VCALENDAR