BEGIN:VCALENDAR
VERSION:2.0
PRODID:-//Plone.org//NONSGML plone.app.event//EN
X-WR-TIMEZONE:Europe/Madrid
BEGIN:VEVENT
SUMMARY:Fem volar estels: taller i volada d'estels
DTSTART;TZID=Europe/Madrid;VALUE=DATE-TIME:20140814T183000
DTEND;TZID=Europe/Madrid;VALUE=DATE-TIME:20140814T193000
DTSTAMP;VALUE=DATE-TIME:20260425T162840Z
UID:ccf6c39e5c75bb57bbd018a605138ea1
CREATED;VALUE=DATE-TIME:20140814T000000Z
CATEGORIES:Infantils
LOCATION:Biblioplatja - Platja de la Picòrdia
ORGANIZER:Biblioteca - Regidoria de Cultura
DESCRIPTION:en record a Quico Bertran
URL:https://arenysdemar.cat/document.php?id=28304
END:VEVENT
END:VCALENDAR