BEGIN:VCALENDAR
VERSION:2.0
PRODID:-//Plone.org//NONSGML plone.app.event//EN
X-WR-TIMEZONE:Europe/Madrid
BEGIN:VEVENT
SUMMARY:Cercavila de macips, macipes i captadores
DTSTART;TZID=Europe/Madrid;VALUE=DATE-TIME:20140816T090000
DTEND;TZID=Europe/Madrid;VALUE=DATE-TIME:20140816T100000
DTSTAMP;VALUE=DATE-TIME:20260424T010700Z
UID:84ba6a2b196de6907b542892cb332471
CREATED;VALUE=DATE-TIME:20140816T000000Z
CATEGORIES:Festa
LOCATION:Pels carrers i places de la vila
ORGANIZER:Patronat de Sant Roc
URL:https://arenysdemar.cat/document.php?id=28323
END:VEVENT
END:VCALENDAR