BEGIN:VCALENDAR
VERSION:2.0
PRODID:-//Plone.org//NONSGML plone.app.event//EN
X-WR-TIMEZONE:Europe/Madrid
BEGIN:VEVENT
SUMMARY:Ruta guiada: Cementiri de Sinera
DTSTART;TZID=Europe/Madrid;VALUE=DATE-TIME:20140629T110000
DTEND;TZID=Europe/Madrid;VALUE=DATE-TIME:20140629T120000
DTSTAMP;VALUE=DATE-TIME:20260424T210318Z
UID:00105e134b22620d07f1e80c32fb16d3
CREATED;VALUE=DATE-TIME:20140629T000000Z
CATEGORIES:Mostra
LOCATION:Cementiri de Sinera
ORGANIZER:Ajuntament d'Arenys de Mar i Sinera Cultura
COMMENT:Preu: gratuïta
DESCRIPTION:Ruta guiada gratuïta englobada dins del marc de rutes culturals per descobrir la vila
URL:https://arenysdemar.cat/document.php?id=28331
END:VEVENT
END:VCALENDAR