BEGIN:VCALENDAR
VERSION:2.0
PRODID:-//Plone.org//NONSGML plone.app.event//EN
X-WR-TIMEZONE:Europe/Madrid
BEGIN:VEVENT
SUMMARY:Passejada naturalista cap al Remei. Descoberta de fauna, vegetació, geologia i paisatge
DTSTART;TZID=Europe/Madrid;VALUE=DATE-TIME:20140819T180000
DTEND;TZID=Europe/Madrid;VALUE=DATE-TIME:20140819T190000
DTSTAMP;VALUE=DATE-TIME:20260423T214807Z
UID:d4394a01edc31930860347ac55010993
CREATED;VALUE=DATE-TIME:20140819T000000Z
LOCATION:Biblioplatja - Platja de la Picòrdia
ORGANIZER:Regidoria de Medi Ambient i Biblioteca - Regidoria de Cultura
COMMENT:Preu: Inscripcions a la Biblioteca o a la Biblioplatja
DESCRIPTION:a càrrec de Pere Alzina, biòleg i guia naturalista
URL:https://arenysdemar.cat/document.php?id=28345
END:VEVENT
END:VCALENDAR