BEGIN:VCALENDAR
VERSION:2.0
PRODID:-//Plone.org//NONSGML plone.app.event//EN
X-WR-TIMEZONE:Europe/Madrid
BEGIN:VEVENT
SUMMARY:Concert: Versos i cançons
DTSTART;TZID=Europe/Madrid;VALUE=DATE-TIME:20140810T200000
DTEND;TZID=Europe/Madrid;VALUE=DATE-TIME:20140810T210000
DTSTAMP;VALUE=DATE-TIME:20260425T143429Z
UID:d85725766b8ababc09577bc8279af059
CREATED;VALUE=DATE-TIME:20140810T000000Z
CATEGORIES:Música
LOCATION:Biblioplatja - Platja de la Picòrdia
ORGANIZER:Biblioteca - Regidoria de Cultura
DESCRIPTION:a càrrec de Fèlix Cucurull i Dídac Rocher
URL:https://arenysdemar.cat/document.php?id=28347
END:VEVENT
END:VCALENDAR