BEGIN:VCALENDAR
VERSION:2.0
PRODID:-//Plone.org//NONSGML plone.app.event//EN
X-WR-TIMEZONE:Europe/Madrid
BEGIN:VEVENT
SUMMARY:Visites radiofòniques: Entre barques i mestrances
DTSTART;TZID=Europe/Madrid;VALUE=DATE-TIME:20140817T190000
DTEND;TZID=Europe/Madrid;VALUE=DATE-TIME:20140817T200000
DTSTAMP;VALUE=DATE-TIME:20260421T202253Z
UID:4f1a7fb7a34a06bb84e7edf15f890fe2
CREATED;VALUE=DATE-TIME:20140817T000000Z
LOCATION:Port. Embarcador de la golondrina
ORGANIZER:Cia. Alambiq, Radio Arenys i Ajuntament d'Arenys de Mar
COMMENT:Preu: Gratuïta. Cal dur transistor i auriculars
DESCRIPTION:Projecte espiadimonis
URL:https://arenysdemar.cat/document.php?id=28415
END:VEVENT
END:VCALENDAR