BEGIN:VCALENDAR
VERSION:2.0
PRODID:-//Plone.org//NONSGML plone.app.event//EN
X-WR-TIMEZONE:Europe/Madrid
BEGIN:VEVENT
SUMMARY:Gretel i Hansel
DTSTART;TZID=Europe/Madrid;VALUE=DATE-TIME:20140928T180000
DTEND;TZID=Europe/Madrid;VALUE=DATE-TIME:20140928T190000
DTSTAMP;VALUE=DATE-TIME:20260423T151002Z
UID:1adf43a0787958abc015fab1ab7eae22
CREATED;VALUE=DATE-TIME:20140928T000000Z
CATEGORIES:Infantils
LOCATION:Teatre Principal - C. Església, 45-47
ORGANIZER:S.C. L'Esperança i Regidoria de Cultura
COMMENT:Preu: Anticipada 5, taquilla 6 i socis 4
DESCRIPTION:a càrrec de la Cia. Zum Zum Teatre
URL:https://arenysdemar.cat/document.php?id=28424
END:VEVENT
END:VCALENDAR