BEGIN:VCALENDAR
VERSION:2.0
PRODID:-//Plone.org//NONSGML plone.app.event//EN
X-WR-TIMEZONE:Europe/Madrid
BEGIN:VEVENT
SUMMARY:XXVI Pedalejada
DTSTART;TZID=Europe/Madrid;VALUE=DATE-TIME:20140815T100000
DTEND;TZID=Europe/Madrid;VALUE=DATE-TIME:20140815T110000
DTSTAMP;VALUE=DATE-TIME:20260424T061313Z
UID:2a3de455d3f27cb52063c85504ab3e63
CREATED;VALUE=DATE-TIME:20140815T000000Z
CATEGORIES:Esports
LOCATION:Riera, davant del C.C. Calisay
ORGANIZER:Unió de Botiguers i Comerciants d'Arenys de Mar
COMMENT:Preu: gratuït
DESCRIPTION:per llocs emblemàtics d'Arenys de Mar
URL:https://arenysdemar.cat/document.php?id=28431
END:VEVENT
END:VCALENDAR