BEGIN:VCALENDAR
VERSION:2.0
PRODID:-//Plone.org//NONSGML plone.app.event//EN
X-WR-TIMEZONE:Europe/Madrid
BEGIN:VEVENT
SUMMARY:Teatre: Bufonant amb Toni Albà
DTSTART;TZID=Europe/Madrid;VALUE=DATE-TIME:20141130T190000
DTEND;TZID=Europe/Madrid;VALUE=DATE-TIME:20141130T200000
DTSTAMP;VALUE=DATE-TIME:20260423T145403Z
UID:7b7699477e1e6dd3444bd554996b9bd3
CREATED;VALUE=DATE-TIME:20141130T000000Z
CATEGORIES:Teatre
LOCATION:Teatre Principal - C. Església, 45-47
ORGANIZER:S.C. L'Esperança i Regidoria de Cultura
COMMENT:Preu: Per Internet 10 i socis 20% descompte, el mateix dia a la taquilla 12 i socis 10
DESCRIPTION:a càrrec de la Cia Toni Albà
URL:https://arenysdemar.cat/document.php?id=28436
END:VEVENT
END:VCALENDAR