BEGIN:VCALENDAR
VERSION:2.0
PRODID:-//Plone.org//NONSGML plone.app.event//EN
X-WR-TIMEZONE:Europe/Madrid
BEGIN:VEVENT
SUMMARY:Teatre familiar: A taula
DTSTART;TZID=Europe/Madrid;VALUE=DATE-TIME:20141123T180000
DTEND;TZID=Europe/Madrid;VALUE=DATE-TIME:20141123T190000
DTSTAMP;VALUE=DATE-TIME:20260420T221115Z
UID:cdf5f0ed78524da693da34900a7d3890
CREATED;VALUE=DATE-TIME:20141123T000000Z
CATEGORIES:Infantils
LOCATION:Teatre Principal - C. Església, 45-47
ORGANIZER:S.C. L'Esperança i Regidoria de Cultura
COMMENT:Preu: Anticipada 5, taquilla 6 i socis 4
DESCRIPTION:a càrrec de la Cia. Peus de Porc
URL:https://arenysdemar.cat/document.php?id=28438
END:VEVENT
END:VCALENDAR