BEGIN:VCALENDAR
VERSION:2.0
PRODID:-//Plone.org//NONSGML plone.app.event//EN
X-WR-TIMEZONE:Europe/Madrid
BEGIN:VEVENT
SUMMARY:Teatre: Tu digues que l'estimes
DTSTART;TZID=Europe/Madrid;VALUE=DATE-TIME:20141102T190000
DTEND;TZID=Europe/Madrid;VALUE=DATE-TIME:20141102T200000
DTSTAMP;VALUE=DATE-TIME:20260421T015443Z
UID:f311620ac0396479ddb969fa545ac3fd
CREATED;VALUE=DATE-TIME:20141102T000000Z
CATEGORIES:Teatre
LOCATION:Teatre Principal - C. Església, 45-47
ORGANIZER:S.C. L'Esperança i Regidoria de Cultura
COMMENT:Preu: Anticipada 10, taquilla 12 i socis 8
DESCRIPTION:a càrrec de la Cia. Apunta Teatre
URL:https://arenysdemar.cat/document.php?id=28441
END:VEVENT
END:VCALENDAR