BEGIN:VCALENDAR
VERSION:2.0
PRODID:-//Plone.org//NONSGML plone.app.event//EN
X-WR-TIMEZONE:Europe/Madrid
BEGIN:VEVENT
SUMMARY:Ball Jove
DTSTART;TZID=Europe/Madrid;VALUE=DATE-TIME:20140814T233000
DTEND;TZID=Europe/Madrid;VALUE=DATE-TIME:20140815T003000
DTSTAMP;VALUE=DATE-TIME:20260424T041438Z
UID:89383df29db14695432ac76a14a588f8
CREATED;VALUE=DATE-TIME:20140814T000000Z
CATEGORIES:Música
LOCATION:Riera, davant el Xifré
ORGANIZER:Ajuntament d'Arenys de Mar
URL:https://arenysdemar.cat/document.php?id=28457
END:VEVENT
END:VCALENDAR