BEGIN:VCALENDAR
VERSION:2.0
PRODID:-//Plone.org//NONSGML plone.app.event//EN
X-WR-TIMEZONE:Europe/Madrid
BEGIN:VEVENT
SUMMARY:Proclamació de la Pubilla i l'Hereu d'Arenys de Mar 2014
DTSTART;TZID=Europe/Madrid;VALUE=DATE-TIME:20140817T203000
DTEND;TZID=Europe/Madrid;VALUE=DATE-TIME:20140817T213000
DTSTAMP;VALUE=DATE-TIME:20260421T213803Z
UID:0fc04bcbe412703b8e3437ca1643d3a3
CREATED;VALUE=DATE-TIME:20140817T000000Z
CATEGORIES:Festa
LOCATION:Riera, davant el Xifré
ORGANIZER:Associació de Pubillatge d'Arenys i Ajuntament d'Arenys de Mar
URL:https://arenysdemar.cat/document.php?id=28460
END:VEVENT
END:VCALENDAR