BEGIN:VCALENDAR
VERSION:2.0
PRODID:-//Plone.org//NONSGML plone.app.event//EN
X-WR-TIMEZONE:Europe/Madrid
BEGIN:VEVENT
SUMMARY:Cantada d'Havaneres
DTSTART;TZID=Europe/Madrid;VALUE=DATE-TIME:20140817T230000
DTEND;TZID=Europe/Madrid;VALUE=DATE-TIME:20140818T000000
DTSTAMP;VALUE=DATE-TIME:20260421T211203Z
UID:09ae05377dd49878437919cb0a9fa74e
CREATED;VALUE=DATE-TIME:20140817T000000Z
CATEGORIES:Música
LOCATION:Riera, davant el Xifré
ORGANIZER:Ajuntament d'Arenys de Mar
DESCRIPTION:a càrrec del grup El Bergantí
URL:https://arenysdemar.cat/document.php?id=28461
END:VEVENT
END:VCALENDAR