BEGIN:VCALENDAR
VERSION:2.0
PRODID:-//Plone.org//NONSGML plone.app.event//EN
X-WR-TIMEZONE:Europe/Madrid
BEGIN:VEVENT
SUMMARY:Ofrena floral
DTSTART;TZID=Europe/Madrid;VALUE=DATE-TIME:20140911T110000
DTEND;TZID=Europe/Madrid;VALUE=DATE-TIME:20140911T120000
DTSTAMP;VALUE=DATE-TIME:20260424T060940Z
UID:801839a387f97cbe55d289298fc4f634
CREATED;VALUE=DATE-TIME:20140911T000000Z
CATEGORIES:Festa
LOCATION:Plaça de la Vila - Riera Bisbe Pol, 8
ORGANIZER:Ajuntament d'Arenys de Mar i entitats arenyenques
DESCRIPTION:Diada Nacional
URL:https://arenysdemar.cat/document.php?id=28499
END:VEVENT
END:VCALENDAR