BEGIN:VCALENDAR
VERSION:2.0
PRODID:-//Plone.org//NONSGML plone.app.event//EN
X-WR-TIMEZONE:Europe/Madrid
BEGIN:VEVENT
SUMMARY:La barca nova d'Ignasi Iglesias
DTSTART;TZID=Europe/Madrid;VALUE=DATE-TIME:20140912T220000
DTEND;TZID=Europe/Madrid;VALUE=DATE-TIME:20140912T230000
DTSTAMP;VALUE=DATE-TIME:20260423T182823Z
UID:ec885c8a4dc4d6ee9bc5004bd9324f34
CREATED;VALUE=DATE-TIME:20140912T000000Z
CATEGORIES:Teatre
LOCATION:Teatre Principal i Platja de la Picòrdia - C. Església, 45-47
ORGANIZER:S. C. L'Esperança, Centre Cultural Sant Pol i  regidoria de Cultura d'Arenys de Mar i Sant Pol de Mar
COMMENT:Preu: Anticipat 10, el mateix dia a la taquilla 12, descomptes per als socis.
DESCRIPTION:a càrrec del Centre Cultural Sant Pol
URL:https://arenysdemar.cat/document.php?id=28506
END:VEVENT
END:VCALENDAR