BEGIN:VCALENDAR
VERSION:2.0
PRODID:-//Plone.org//NONSGML plone.app.event//EN
X-WR-TIMEZONE:Europe/Madrid
BEGIN:VEVENT
SUMMARY:Presentació del llibre Les dones del 1714
DTSTART;TZID=Europe/Madrid;VALUE=DATE-TIME:20140906T193000
DTEND;TZID=Europe/Madrid;VALUE=DATE-TIME:20140906T203000
DTSTAMP;VALUE=DATE-TIME:20260424T113355Z
UID:4e8ad01bc32953d5049c44d82764f4f0
CREATED;VALUE=DATE-TIME:20140906T000000Z
CATEGORIES:Literatura
LOCATION:Ateneu Arenyenc
ORGANIZER:Plataforma per la Llengua, Assemblea Nacional Catalana i Ateneu Arenyenc
DESCRIPTION:a càrrec de la seva autora Patrícia Gabancho
URL:https://arenysdemar.cat/document.php?id=28508
END:VEVENT
END:VCALENDAR