BEGIN:VCALENDAR
VERSION:2.0
PRODID:-//Plone.org//NONSGML plone.app.event//EN
X-WR-TIMEZONE:Europe/Madrid
BEGIN:VEVENT
SUMMARY:Conferència Ser independentista no és cap pecat
DTSTART;TZID=Europe/Madrid;VALUE=DATE-TIME:20140905T193000
DTEND;TZID=Europe/Madrid;VALUE=DATE-TIME:20140905T203000
DTSTAMP;VALUE=DATE-TIME:20260424T144816Z
UID:fc9d04f4223a92c5ecf313931a79245b
CREATED;VALUE=DATE-TIME:20140905T000000Z
CATEGORIES:Conferència
LOCATION:Ateneu Arenyenc
ORGANIZER:Assemblea Nacional Catalana i Ateneu Arenyenc
DESCRIPTION:a càrrec d'Hilari Raguer, monjo de Montserrat
URL:https://arenysdemar.cat/document.php?id=28509
END:VEVENT
END:VCALENDAR