BEGIN:VCALENDAR
VERSION:2.0
PRODID:-//Plone.org//NONSGML plone.app.event//EN
X-WR-TIMEZONE:Europe/Madrid
BEGIN:VEVENT
SUMMARY:Concert 35 anys de Ràdio
DTSTART;TZID=Europe/Madrid;VALUE=DATE-TIME:20140920T180000
DTEND;TZID=Europe/Madrid;VALUE=DATE-TIME:20140920T190000
DTSTAMP;VALUE=DATE-TIME:20260424T221908Z
UID:c3e522171363ec84518e5bae9adc500f
CREATED;VALUE=DATE-TIME:20140920T000000Z
CATEGORIES:Música
LOCATION:Pati del C.C.Calisay - Riera del Pare Fita, 31
ORGANIZER:Ràdio Arenys
DESCRIPTION:ACTIVITAT POSPOSADA
URL:https://arenysdemar.cat/document.php?id=28527
END:VEVENT
END:VCALENDAR