BEGIN:VCALENDAR
VERSION:2.0
PRODID:-//Plone.org//NONSGML plone.app.event//EN
X-WR-TIMEZONE:Europe/Madrid
BEGIN:VEVENT
SUMMARY:Pesca del sonso
DTSTART;TZID=Europe/Madrid;VALUE=DATE-TIME:20141024T073000
DTEND;TZID=Europe/Madrid;VALUE=DATE-TIME:20141024T083000
DTSTAMP;VALUE=DATE-TIME:20260424T204245Z
UID:e4f0b9d91c73fa111fa2e7d04665debc
CREATED;VALUE=DATE-TIME:20141024T000000Z
LOCATION:Port
ORGANIZER:Ajuntament d´Arenys de Mar
COMMENT:Preu: 24&euro; (entrada anticipada)
DESCRIPTION:a càrrec de Peix Nostrum SL
URL:https://arenysdemar.cat/document.php?id=28548
END:VEVENT
END:VCALENDAR