BEGIN:VCALENDAR
VERSION:2.0
PRODID:-//Plone.org//NONSGML plone.app.event//EN
X-WR-TIMEZONE:Europe/Madrid
BEGIN:VEVENT
SUMMARY:Inici de la temporada del Club de Lectura amb Lliures o morts de Jaume Clotet i David de Montserrat
DTSTART;TZID=Europe/Madrid;VALUE=DATE-TIME:20141006T190000
DTEND;TZID=Europe/Madrid;VALUE=DATE-TIME:20141006T200000
DTSTAMP;VALUE=DATE-TIME:20260424T204437Z
UID:2ab89cc57ed050d8f8eb4753d83d155f
CREATED;VALUE=DATE-TIME:20141006T000000Z
CATEGORIES:Literatura
LOCATION:Sala d'Actes de la Biblioteca - C. Bonaire, 2
ORGANIZER:Biblioteca - Regidoria de Cultura
DESCRIPTION:a càrrec de Montserrat Fonoll, amb la presència de David de Montserrat
URL:https://arenysdemar.cat/document.php?id=28611
END:VEVENT
END:VCALENDAR