BEGIN:VCALENDAR
VERSION:2.0
PRODID:-//Plone.org//NONSGML plone.app.event//EN
X-WR-TIMEZONE:Europe/Madrid
BEGIN:VEVENT
SUMMARY:Diada de la Gent Gran 2014
DTSTART;TZID=Europe/Madrid;VALUE=DATE-TIME:20141023T170000
DTEND;TZID=Europe/Madrid;VALUE=DATE-TIME:20141023T180000
DTSTAMP;VALUE=DATE-TIME:20260421T140531Z
UID:12c93ce7a617356a8e3785400a2d117c
CREATED;VALUE=DATE-TIME:20141023T000000Z
CATEGORIES:Festa
LOCATION:Sala Polivalent del C.C.Calisay - Riera Pare Fita, 31
ORGANIZER:Regidoria de Gent Gran
DESCRIPTION:Berenar popular amb amenització musical
URL:https://arenysdemar.cat/document.php?id=28621
END:VEVENT
END:VCALENDAR